BEGIN:VCALENDAR
VERSION:2.0
PRODID:-//Squarespace Inc/Squarespace 6//v6//EN
BEGIN:VEVENT
UID:58c7290eb3db2b7f6a6d626c@squarespace.com
DTSTAMP:20170403T034639Z
DTSTART:20170506T060000Z
DTEND:20170506T070000Z
SUMMARY:The Holy Loner
END:VEVENT
END:VCALENDAR
