BEGIN:VCALENDAR
VERSION:2.0
PRODID:-//Squarespace Inc/Squarespace 6//v6//EN
BEGIN:VEVENT
UID:58c74177b8a79bf5b53ade81@squarespace.com
DTSTAMP:20170314T022629Z
DTSTART:20170506T050000Z
DTEND:20170506T060000Z
SUMMARY:The Dead Zephyrs
END:VEVENT
END:VCALENDAR
