BEGIN:VCALENDAR
VERSION:2.0
PRODID:-//Squarespace Inc/Squarespace 6//v6//EN
BEGIN:VEVENT
UID:58ffd12e86e6c08b4cfc71f1@squarespace.com
DTSTAMP:20170430T235054Z
DTSTART:20170506T090000Z
DTEND:20170506T100000Z
SUMMARY:Shayne Cater
END:VEVENT
END:VCALENDAR
