BEGIN:VCALENDAR
VERSION:2.0
PRODID:-//Squarespace Inc/Squarespace 6//v6//EN
BEGIN:VEVENT
UID:58c7429da5790ada8ff7bd8c@squarespace.com
DTSTAMP:20170314T022724Z
DTSTART:20170506T010000Z
DTEND:20170506T020000Z
SUMMARY:Saali Marks and the Feathertones
END:VEVENT
END:VCALENDAR
