BEGIN:VCALENDAR
VERSION:2.0
PRODID:-//Squarespace Inc/Squarespace 6//v6//EN
BEGIN:VEVENT
UID:58c7409ee3df28e446d9c783@squarespace.com
DTSTAMP:20170319T213546Z
DTSTART:20170506T000000Z
DTEND:20170506T010000Z
SUMMARY:Nzumeus
END:VEVENT
END:VCALENDAR
