BEGIN:VCALENDAR
VERSION:2.0
PRODID:-//Squarespace Inc/Squarespace 6//v6//EN
BEGIN:VEVENT
UID:58c72da05016e1488d24cc2c@squarespace.com
DTSTAMP:20170314T023049Z
DTSTART:20170506T080000Z
DTEND:20170506T090000Z
SUMMARY:Mike Rigg
END:VEVENT
END:VCALENDAR
