BEGIN:VCALENDAR
VERSION:2.0
PRODID:-//Squarespace Inc/Squarespace 6//v6//EN
BEGIN:VEVENT
UID:590849ad86e6c0132ce99e5c@squarespace.com
DTSTAMP:20170503T232450Z
DTSTART:20170506T100000Z
DTEND:20170506T110000Z
SUMMARY:Inhale
END:VEVENT
END:VCALENDAR
