BEGIN:VCALENDAR
VERSION:2.0
PRODID:-//Squarespace Inc/Squarespace 6//v6//EN
BEGIN:VEVENT
UID:58c741ef59cc68a6d74a6240@squarespace.com
DTSTAMP:20170504T015303Z
DTSTART:20170506T040000Z
DTEND:20170506T050000Z
SUMMARY:Honey Tea Trio
END:VEVENT
END:VCALENDAR
