BEGIN:VCALENDAR
VERSION:2.0
PRODID:-//Squarespace Inc/Squarespace 6//v6//EN
BEGIN:VEVENT
UID:58c747ef1e5b6c693f03e073@squarespace.com
DTSTAMP:20170504T214544Z
DTSTART:20170506T070000Z
DTEND:20170506T080000Z
SUMMARY:Lisa Jimmieson
END:VEVENT
END:VCALENDAR
