BEGIN:VCALENDAR
VERSION:2.0
PRODID:-//Squarespace Inc/Squarespace 6//v6//EN
BEGIN:VEVENT
UID:58c7436c414fb5205e1d95fd@squarespace.com
DTSTAMP:20170319T213252Z
DTSTART:20170506T020000Z
DTEND:20170506T030000Z
SUMMARY:Bearded Theory
END:VEVENT
END:VCALENDAR
